BEGIN:VCALENDAR
VERSION:2.0
PRODID:-//wp-events-plugin.com//7.2.3.1//EN
TZID:Europe/Paris
X-WR-TIMEZONE:Europe/Paris
BEGIN:VEVENT
UID:168@cpts-sel-et-eau.fr
DTSTART;TZID=Europe/Paris:20260322T140000
DTEND;TZID=Europe/Paris:20260322T170000
DTSTAMP:20260224T140129Z
URL:https://cpts-sel-et-eau.fr/events/zumbalzheimer/
SUMMARY:Zumb'Alzheimer
DESCRIPTION:L'antenne France Alzheimer 54 de Lunéville organise un évène
 ment le dimanche 22 mars 2026 (jour d'élections municipales) de 14h à 17
 h\n\nRDV au gymnase La Barollière - 1 rue de la Barollière à LUNEVILLE 
 afin de récolter des fonds.\n\nLa chorale de CROISMARE viendra interprét
 er des chansons de J.J. GOLDMAN et Anne-Sophie ANTOINE animera ensuite une
  zumba !\n\nUne buvette est prévue sur place et nous vous attendons nombr
 eux pour passer un bon moment avec nous !
ATTACH;FMTTYPE=image/jpeg:https://cpts-sel-et-eau.fr/wp-content/uploads/20
 26/02/zumbalzheimer.jpg
CATEGORIES:Grand public
END:VEVENT
BEGIN:VTIMEZONE
TZID:Europe/Paris
X-LIC-LOCATION:Europe/Paris
BEGIN:STANDARD
DTSTART:20251026T020000
TZOFFSETFROM:+0200
TZOFFSETTO:+0100
TZNAME:CET
END:STANDARD
END:VTIMEZONE
END:VCALENDAR