BEGIN:VCALENDAR
VERSION:2.0
PRODID:-//wp-events-plugin.com//7.2.3.1//EN
TZID:Europe/Paris
X-WR-TIMEZONE:Europe/Paris
BEGIN:VEVENT
UID:108@cpts-sel-et-eau.fr
DTSTART;TZID=Europe/Paris:20250204T193000
DTEND;TZID=Europe/Paris:20250204T210000
DTSTAMP:20250102T090026Z
URL:https://cpts-sel-et-eau.fr/events/webinaire-pourquoi-recourir-a-linter
 pretariat-en-sante/
SUMMARY:Webinaire : Pourquoi recourir à l'interprétariat en santé ?
DESCRIPTION:Afin d'accompagner les professionnels de santé dans ces situat
 ions\, l'Agence Régionale de Santé Grand Est propose un service d'interp
 rétariat téléphonique mis gratuitement à disposition de tous les profe
 ssionnels de santé libéraux du Grand Est. CODAGE (Collectif des disposit
 ifs d'appui\, de ressources et d'expertise en Grand Est) est chargé d'acc
 ompagner la mise en œuvre de ce dispositif régional\, dont la prestation
  d'interprétariat est confiée à l'association ISM Interprétariat.\n\nQ
 u'est-ce que l'interprétariat professionnel en santé ? En quoi cela peut
 -il faciliter le suivi des patients allophones ?\nPour mieux comprendre le
 s apports du recours à l'interprétariat professionnel\, ainsi que le fon
 ctionnement du dispositif\, nous proposons un webinaire régional le ma
 rdi 4 février 2025 de 19h30 à 21h00.\n\n\n 	Le lien d'inscription : In
 scription\n 	Le lien de la vidéo : https://www.youtube.com/watch?v=Avw1K
 Lrw8Fs\n\n\n\n\n 	Le programme du webinaire :\n\n\n\n\n\nhttps://register.
 gotowebinar.com/register/4150400652547856987\n\nSi vous avez des questions
  ou besoin d'informations complémentaires\, n'hésitez pas à nous contac
 ter à : codage.interpretariat@gmail.com\n\n
CATEGORIES:Professionnels de santé
END:VEVENT
BEGIN:VTIMEZONE
TZID:Europe/Paris
X-LIC-LOCATION:Europe/Paris
BEGIN:STANDARD
DTSTART:20241027T020000
TZOFFSETFROM:+0200
TZOFFSETTO:+0100
TZNAME:CET
END:STANDARD
END:VTIMEZONE
END:VCALENDAR