BEGIN:VCALENDAR
VERSION:2.0
PRODID:-//wp-events-plugin.com//7.2.3.1//EN
TZID:Europe/Paris
X-WR-TIMEZONE:Europe/Paris
BEGIN:VEVENT
UID:158@cpts-sel-et-eau.fr
DTSTART;TZID=Europe/Paris:20260601T120000
DTEND;TZID=Europe/Paris:20260601T130000
DTSTAMP:20260114T103956Z
URL:https://cpts-sel-et-eau.fr/events/webilunch-du-centre-specialise-de-lo
 besite-de-nancy-comment-aborder-lobesite-pediatrique-en-consultation-outil
 s-discours-et-posture-dr-maeva-leuvrey/
SUMMARY:WEBI'LUNCH du Centre Spécialisé de l'Obésité de Nancy : Comment
  aborder l'obésité pédiatrique en consultation : outils\, discours et p
 osture (Dr. Maeva LEUVREY)
DESCRIPTION:En 2026\, le Centre Spécialisé de l'Obésité de Nancy vous p
 ropose une nouvelle série de webinaires sur la pause méridienne : les W
 EBI'LUNCH  !\n\nChaque mois\, un webinaire vous sera proposé par un prof
 essionnel du CSO sur une thématique spécifique : ETP\, APA\, TCA\, chiru
 rgie\, diététique\, pédiatrie\, etc.\n\n 	Mercredi 28 janvier (12h30-13
 h30) - ETP et partenariat (Dr. Philip BÖHME\, Pauline GARCIA)\n 	Mardi 24
  février (12h-13h) - Obésité adulte et APA : comment conseiller et où 
 orienter ? (Thibaut BATISSE)\n 	Mercredi 11 mars (12h-13h)  - TCA : mieux
  décrire pour mieux prendre en soins (Pr. Olivier ZIEGLER)\n 	Vendredi 10
  avril (12h-13h) - Quoi de neuf en chirurgie bariatrique en 2026 ? (Dr. Ni
 colas REIBEL)\n 	Lundi 11 mai (12h-13h) - De l'alimentation émotionnelle 
 à l'alimentation intuitive et vice versa (Mathilde VINCENT)\n 	Lundi 1er 
 juin (12h-13h) - Comment aborder l'obésité pédiatrique en consultation 
 : outils\, discours et posture (Dr. Maeva LEUVREY)\n\nAfin de rester infor
 mé de ces actualités\, et recevoir le lien de connexion pour le(s) webin
 aire(s) qui vous intéresse(nt)\, merci de bien vouloir remplir le formula
 ire.
CATEGORIES:Professionnels de santé
END:VEVENT
BEGIN:VTIMEZONE
TZID:Europe/Paris
X-LIC-LOCATION:Europe/Paris
BEGIN:DAYLIGHT
DTSTART:20260329T030000
TZOFFSETFROM:+0100
TZOFFSETTO:+0200
TZNAME:CEST
END:DAYLIGHT
END:VTIMEZONE
END:VCALENDAR