BEGIN:VCALENDAR
VERSION:2.0
PRODID:-//wp-events-plugin.com//7.2.3.1//EN
TZID:Europe/Paris
X-WR-TIMEZONE:Europe/Paris
BEGIN:VEVENT
UID:117@cpts-sel-et-eau.fr
DTSTART;TZID=Europe/Paris:20250610T200000
DTEND;TZID=Europe/Paris:20250610T220000
DTSTAMP:20250605T132155Z
URL:https://cpts-sel-et-eau.fr/events/soiree-etp/
SUMMARY:Soirée ETP
DESCRIPTION:Ordre du jour :\n&nbsp\;\n\n 	Ce qu’est l’ETP\n 	Exemples d
 e programmes ETP\n 	CPTS et ETP : perspectives en termes de formation\, s
 éances...\n\nLa soirée se déroulera EN VISIOCONFERENCE contrairement à
  ce qui était initialement indiqué.\n\nLien transmis sur inscription ici
CATEGORIES:Professionnels de santé
END:VEVENT
BEGIN:VTIMEZONE
TZID:Europe/Paris
X-LIC-LOCATION:Europe/Paris
BEGIN:DAYLIGHT
DTSTART:20250330T030000
TZOFFSETFROM:+0100
TZOFFSETTO:+0200
TZNAME:CEST
END:DAYLIGHT
END:VTIMEZONE
END:VCALENDAR