BEGIN:VCALENDAR
VERSION:2.0
PRODID:-//wp-events-plugin.com//7.2.3.1//EN
TZID:Europe/Paris
X-WR-TIMEZONE:Europe/Paris
BEGIN:VEVENT
UID:151@cpts-sel-et-eau.fr
DTSTART;TZID=Europe/Paris:20260123T123000
DTEND;TZID=Europe/Paris:20260123T133000
DTSTAMP:20260114T103849Z
URL:https://cpts-sel-et-eau.fr/events/sensibilisation-en-ligne-a-la-prise-
 en-charge-de-lobesite-pediatrique-animee-par-le-pr-olivier-ziegler/
SUMMARY:Sensibilisation en ligne à la prise en charge de l’obésité pé
 diatrique animée par le Pr. Olivier ZIEGLER
DESCRIPTION:Au programme : Messages clés sur les causes\, les conséquenc
 es et les traitements de l’obésité\, animée par le Pr. Olivier ZIEGLE
 R (Professeur émérite de Nutrition\, Université de Lorraine)\n\n&nbsp\;
 \n\nDeux dates vous sont proposées (merci de vous positionner sur l’une
  de ces deux dates lors de votre inscription) :\n\n 	Vendredi 23 janvier 2
 026 de 12h30 à 13h30\, en visioconférence\n\n\n 	Mercredi 4 février 202
 6 de 12h30 à 13h30\, en visioconférence\n\n&nbsp\;\n\nInscription obliga
 toire et gratuite via le lien ci-dessous : \n\nhttps://docs.google.com/for
 ms/d/e/1FAIpQLSc9xJ5FHEqGdvzfYcLPSwHsnm5N8tY0CF7M9Sbz10r_M5316Q/viewform?u
 sp=publish-editor\n\n&nbsp\;\n\n+ d'infos et autres formations : Formatio
 n obésité pédiatrique
CATEGORIES:Professionnels de santé
END:VEVENT
BEGIN:VTIMEZONE
TZID:Europe/Paris
X-LIC-LOCATION:Europe/Paris
BEGIN:STANDARD
DTSTART:20251026T020000
TZOFFSETFROM:+0200
TZOFFSETTO:+0100
TZNAME:CET
END:STANDARD
END:VTIMEZONE
END:VCALENDAR