BEGIN:VCALENDAR
VERSION:2.0
PRODID:-//wp-events-plugin.com//7.2.3.1//EN
TZID:Europe/Paris
X-WR-TIMEZONE:Europe/Paris
BEGIN:VEVENT
UID:152@cpts-sel-et-eau.fr
DTSTART;TZID=Europe/Paris:20260130T123000
DTEND;TZID=Europe/Paris:20260130T133000
DTSTAMP:20260114T103904Z
URL:https://cpts-sel-et-eau.fr/events/sensibilisation-a-la-prise-en-charge
 -de-lobesite-de-ladulte/
SUMMARY:Sensibilisation à la prise en charge de l'obésité de l'adulte
DESCRIPTION:Le Centre Spécialisé de l'Obésité de Nancy\, en partenariat
  avec l'Équipe Spécialisée en Obésité Pédiatrique (ESOP)\, vous invi
 te à participer à sa première session de formation (niveau 1) : « Sens
 ibilisation à la prise en charge de l'obésité de l'adulte »\, qui se t
 iendra :\nVendredi 30 janvier 2026\, de 12h30 à 13h30\nAvec le soutien de
  l'ARS Grand Est et de l'Université de Lorraine\, cette première session
  sera animée en visioconférence par le Professeur émérite de nutrition
 \, Pr Olivier Ziegler.\n\nÀ destination de l'ensemble des professionnels 
 de santé et des acteurs de la prévention du territoire\, cette session a
 bordera les éléments de définition de l'obésité\, ainsi que la compr
 éhension des causes et des conséquences de la maladie.\n\nPour participe
 r à cette formation gratuite\, nous vous invitons à compléter le  formu
 laire d'inscription ou à scanner le QR code figurant sur l'affiche\, join
 te à ce mail.\n\nLe calendrier 2026 est d'ores et déjà bien engagé pou
 r nos équipes\, avec notamment la préparation d'une session de niveau 2 
 consacrée à la médecine de l'obésité\, et plus spécifiquement aux tr
 aitements médicamenteux (dates à venir prochainement).\n\nFLYER pack for
 mation adulte\n\n
CATEGORIES:Professionnels de santé
END:VEVENT
BEGIN:VTIMEZONE
TZID:Europe/Paris
X-LIC-LOCATION:Europe/Paris
BEGIN:STANDARD
DTSTART:20251026T020000
TZOFFSETFROM:+0200
TZOFFSETTO:+0100
TZNAME:CET
END:STANDARD
END:VTIMEZONE
END:VCALENDAR