BEGIN:VCALENDAR
VERSION:2.0
PRODID:-//wp-events-plugin.com//7.2.3.1//EN
TZID:Europe/Paris
X-WR-TIMEZONE:Europe/Paris
BEGIN:VEVENT
UID:101@cpts-sel-et-eau.fr
DTSTART;TZID=Europe/Paris:20241114T143000
DTEND;TZID=Europe/Paris:20241114T163000
DTSTAMP:20241025T083243Z
URL:https://cpts-sel-et-eau.fr/events/se-nourrir-cest-pas-de-la-tarte-reun
 ion-dinformation-pour-les-seniors-animee-par-une-dieteticienne/
SUMMARY:Se nourrir c'est pas de la tarte ! Réunion d'information pour les 
 séniors animée par une diététicienne
DESCRIPTION:Affiche réu dénutrition dombasle 14 11 24v5\n\nInformation et
  inscription au CCAS : 03 83 18 34 38 ou ccas@ville-dombasle.fr
ATTACH;FMTTYPE=image/jpeg:https://cpts-sel-et-eau.fr/wp-content/uploads/20
 24/10/Affiche-reu-denutrition-dombasle-14-11-24.jpg
CATEGORIES:Grand public
LOCATION:MJC\, 8 rue Saint-Don\, Dombasle-sur-Meurthe\, 54110\, France
X-APPLE-STRUCTURED-LOCATION;VALUE=URI;X-ADDRESS=8 rue Saint-Don\, Dombasle-
 sur-Meurthe\, 54110\, France;X-APPLE-RADIUS=100;X-TITLE=MJC:geo:0,0
END:VEVENT
BEGIN:VTIMEZONE
TZID:Europe/Paris
X-LIC-LOCATION:Europe/Paris
BEGIN:STANDARD
DTSTART:20241027T020000
TZOFFSETFROM:+0200
TZOFFSETTO:+0100
TZNAME:CET
END:STANDARD
END:VTIMEZONE
END:VCALENDAR