BEGIN:VCALENDAR
VERSION:2.0
PRODID:-//wp-events-plugin.com//7.2.3.1//EN
TZID:Europe/Paris
X-WR-TIMEZONE:Europe/Paris
BEGIN:VEVENT
UID:118@cpts-sel-et-eau.fr
DTSTART;TZID=Europe/Paris:20250605T193000
DTEND;TZID=Europe/Paris:20250605T220000
DTSTAMP:20250522T091622Z
URL:https://cpts-sel-et-eau.fr/events/reunion-responsabilite-populationnel
 le-strategie-de-prise-en-charge-vis-a-vis-des-personnes-presentant-un-diab
 ete-simple-et-peu-complique/
SUMMARY:Réunion responsabilité populationnelle : stratégie de prise en c
 harge vis-à-vis des personnes présentant un diabète « simple » et « 
 peu compliqué »
DESCRIPTION:Salle du Conseil du Centre Hospitalier de Lunéville\n\nInvitat
 ion séance de travail - Responsabilité populationnelle 5 06 25
CATEGORIES:Professionnels de santé
LOCATION:Centre Hospitalier de Lunéville\, 6 rue Girardet\, Lunéville\, 5
 4300\, France
X-APPLE-STRUCTURED-LOCATION;VALUE=URI;X-ADDRESS=6 rue Girardet\, Lunéville
 \, 54300\, France;X-APPLE-RADIUS=100;X-TITLE=Centre Hospitalier de Lunévi
 lle:geo:0,0
END:VEVENT
BEGIN:VTIMEZONE
TZID:Europe/Paris
X-LIC-LOCATION:Europe/Paris
BEGIN:DAYLIGHT
DTSTART:20250330T030000
TZOFFSETFROM:+0100
TZOFFSETTO:+0200
TZNAME:CEST
END:DAYLIGHT
END:VTIMEZONE
END:VCALENDAR