BEGIN:VCALENDAR
VERSION:2.0
PRODID:-//wp-events-plugin.com//7.2.3.1//EN
TZID:Europe/Paris
X-WR-TIMEZONE:Europe/Paris
BEGIN:VEVENT
UID:115@cpts-sel-et-eau.fr
DTSTART;TZID=Europe/Paris:20250506T200000
DTEND;TZID=Europe/Paris:20250506T220000
DTSTAMP:20250401T144525Z
URL:https://cpts-sel-et-eau.fr/events/reunion-responsabilite-populationnel
 le-diabete/
SUMMARY:Réunion responsabilité populationnelle diabète
DESCRIPTION:Dans la suite de la réunion de lancement qui a eu lieu le mard
 i 11 mars à la Médiathèque de Lunéville qui a réuni près de 40 perso
 nnes\, et dont vous trouverez le compte-rendu en pièce jointe\, nous avon
 s le plaisir de vous inviter à participer aux prochaines réunions cliniq
 ues dans le cadre du projet de Responsabilité Populationnelle Diabète. C
 es réunions sont essentielles pour discuter des avancées\, des défis et
  des stratégies visant à améliorer la santé de notre population.\n\n&n
 bsp\;\n\nLes réunions se tiendront aux dates et heures suivantes :\n\n•
  Mardi 6 mai à 20h : stratégie de prévention vis-à-vis des personnes 
 à risque de développer un diabète de type 2 à la Mairie de Damelevièr
 es – 3 rue du Général Leclerc - salle Nelson Mandela\n\n• Jeudi 5 ju
 in à 20h : stratégie de prise en charge vis-à-vis des personnes présen
 tant un diabète « stable » au Centre Hospitalier de Lunéville -6 rue G
 irardet -salle du Conseil\n\n• Mardi 24 juin à 20h : stratégie de pris
 e en charge vis-à-vis des personnes présentant un diabète « instable 
 » à la Médiathèque de L’Orangerie - 4 rue du Colonel Clarenthal à L
 unéville\n\n&nbsp\;\n\nCes réunions seront l'occasion de partager des in
 formations cruciales\, d'échanger des idées et de renforcer notre collab
 oration pour atteindre nos objectifs communs. Elles sont ouvertes à l’e
 nsemble des professionnels du territoire\, exerçant en ville comme à l
 ’hôpital\, impliqués dans la prévention ou la prise en charge du diab
 ète ou de ses complications.\n\n&nbsp\;\n\nVotre présence et votre contr
 ibution sont essentielles pour le succès de ce projet.\n\nMême si vous n
 ’avez pas pu être présent le 11 mars\, votre participation sera préci
 euse.\n\n&nbsp\;\n\nInscription ici\n\n&nbsp\;\n\nInvitation Réunion Res
  Pop 2025
CATEGORIES:Professionnels de santé
END:VEVENT
BEGIN:VTIMEZONE
TZID:Europe/Paris
X-LIC-LOCATION:Europe/Paris
BEGIN:DAYLIGHT
DTSTART:20250330T030000
TZOFFSETFROM:+0100
TZOFFSETTO:+0200
TZNAME:CEST
END:DAYLIGHT
END:VTIMEZONE
END:VCALENDAR