BEGIN:VCALENDAR
VERSION:2.0
PRODID:-//wp-events-plugin.com//7.2.3.1//EN
TZID:Europe/Paris
X-WR-TIMEZONE:Europe/Paris
BEGIN:VEVENT
UID:111@cpts-sel-et-eau.fr
DTSTART;TZID=Europe/Paris:20250311T193000
DTEND;TZID=Europe/Paris:20250311T220000
DTSTAMP:20250205T155820Z
URL:https://cpts-sel-et-eau.fr/events/reunion-de-lancement-du-projet-de-re
 sponsabilite-populationnelle-diabete-de-type-2/
SUMMARY:Réunion de lancement du projet de responsabilité populationnelle 
 diabète de type 2
DESCRIPTION:Inspirée des systèmes de santé intégrés et hautement perfo
 rmants Nord-Américains\, elle vise à améliore la coordination des parco
 urs de nos patients\, en prenant appui sur une responsabilité partagée p
 ar l’ensemble des acteurs.\n\nCette 1ère rencontre\, qui se déroulera 
 avec l’appui du Dr Philipp BOHM et de Mme MOKRANI du CHRU de Nancy\, se 
 veut très opérationnelle et aura pour objectif de :\n\n-        
 expliquer la démarche\n\n-        présenter les 1ers bénéfices
  sur les territoires pionniers qui l’ont expérimentée\n\n-      
   partager les enjeux pour notre territoire\n\n-        engager 
 un cycle de travail\n\n&nbsp\;\n\nElle est ouverte à l’ensemble des pr
 ofessionnels du territoire\, exerçant en ville comme à l’hôpital\, im
 pliqués dans la prévention ou la prise en charge du diabète ou de ses c
 omplications.\n\n \n\nPour information\, cette démarche est coordonnée 
 par le GHT Sud Lorraine avec le soutien de l’ARS\, des URPS et de la FHF
 .\n\n&nbsp\;\n\nComptant sur votre mobilisation pour ce projet important\,
  nous vous remercions par avance de nous confirmer votre présence via ce 
 lien d'inscription avant le lundi 10 mars 2025 pour les commandes de repas
 .\n\n&nbsp\;\n\n\n\n
CATEGORIES:Professionnels de santé
LOCATION:Médiathèque de l'Orangerie\, Place du colonel Clarental\, Lunév
 ille\, 54300\, France
X-APPLE-STRUCTURED-LOCATION;VALUE=URI;X-ADDRESS=Place du colonel Clarental\
 , Lunéville\, 54300\, France;X-APPLE-RADIUS=100;X-TITLE=Médiathèque de 
 l'Orangerie:geo:0,0
END:VEVENT
BEGIN:VTIMEZONE
TZID:Europe/Paris
X-LIC-LOCATION:Europe/Paris
BEGIN:STANDARD
DTSTART:20241027T020000
TZOFFSETFROM:+0200
TZOFFSETTO:+0100
TZNAME:CET
END:STANDARD
END:VTIMEZONE
END:VCALENDAR