BEGIN:VCALENDAR
VERSION:2.0
PRODID:-//wp-events-plugin.com//7.2.3.1//EN
TZID:Europe/Paris
X-WR-TIMEZONE:Europe/Paris
BEGIN:VEVENT
UID:119@cpts-sel-et-eau.fr
DTSTART;TZID=Europe/Paris:20250603T090000
DTEND;TZID=Europe/Paris:20250603T120000
DTSTAMP:20250602T134044Z
URL:https://cpts-sel-et-eau.fr/events/prevention-diabete-a-st-nicolas-de-p
 ort/
SUMMARY:Prévention diabète à St Nicolas de Port
DESCRIPTION:Stand d'information et de sensibilisation aux facteurs de risqu
 e du diabète\n\nTests de risque et tests glycémiques\n\n&nbsp\;
CATEGORIES:Grand public,Professionnels de santé
LOCATION:Supermarché Match\, C.C. Frunshopping Nancy Sud\, Saint-Nicolas-d
 e-Port\, 54210\, France
X-APPLE-STRUCTURED-LOCATION;VALUE=URI;X-ADDRESS=C.C. Frunshopping Nancy Sud
 \, Saint-Nicolas-de-Port\, 54210\, France;X-APPLE-RADIUS=100;X-TITLE=Super
 marché Match:geo:0,0
END:VEVENT
BEGIN:VTIMEZONE
TZID:Europe/Paris
X-LIC-LOCATION:Europe/Paris
BEGIN:DAYLIGHT
DTSTART:20250330T030000
TZOFFSETFROM:+0100
TZOFFSETTO:+0200
TZNAME:CEST
END:DAYLIGHT
END:VTIMEZONE
END:VCALENDAR