BEGIN:VCALENDAR
VERSION:2.0
PRODID:-//wp-events-plugin.com//7.2.3.1//EN
TZID:Europe/Paris
X-WR-TIMEZONE:Europe/Paris
BEGIN:VEVENT
UID:121@cpts-sel-et-eau.fr
DTSTART;TZID=Europe/Paris:20250605T140000
DTEND;TZID=Europe/Paris:20250605T180000
DTSTAMP:20250602T134015Z
URL:https://cpts-sel-et-eau.fr/events/prevention-diabete-a-dombasle-sur-me
 urthe/
SUMMARY:Prévention diabète à Dombasle-sur-Meurthe
DESCRIPTION:
CATEGORIES:Grand public,Professionnels de santé
LOCATION:Supermarché Match\, 1 rue Victor Prouvé\, Dombasle-sur-Meurthe\,
  54110\, France
X-APPLE-STRUCTURED-LOCATION;VALUE=URI;X-ADDRESS=1 rue Victor Prouvé\, Domb
 asle-sur-Meurthe\, 54110\, France;X-APPLE-RADIUS=100;X-TITLE=Supermarché 
 Match:geo:0,0
END:VEVENT
BEGIN:VTIMEZONE
TZID:Europe/Paris
X-LIC-LOCATION:Europe/Paris
BEGIN:DAYLIGHT
DTSTART:20250330T030000
TZOFFSETFROM:+0100
TZOFFSETTO:+0200
TZNAME:CEST
END:DAYLIGHT
END:VTIMEZONE
END:VCALENDAR