BEGIN:VCALENDAR
VERSION:2.0
PRODID:-//wp-events-plugin.com//7.2.3.1//EN
TZID:Europe/Paris
X-WR-TIMEZONE:Europe/Paris
BEGIN:VEVENT
UID:122@cpts-sel-et-eau.fr
DTSTART;TZID=Europe/Paris:20250627T163000
DTEND;TZID=Europe/Paris:20250627T210000
DTSTAMP:20250623T091603Z
URL:https://cpts-sel-et-eau.fr/events/prevention-atelier-de-jeu-libre-acti
 f-pour-les-familles/
SUMMARY:Prévention : atelier + de jeu libre actif pour les familles
DESCRIPTION:Atelier pour parents et enfants sur le jeu libre actif
ATTACH;FMTTYPE=image/jpeg:https://cpts-sel-et-eau.fr/wp-content/uploads/20
 25/06/Affiche-fete-des-familles-st-nicolas-2025.jpg
CATEGORIES:Grand public,Professionnels de santé
END:VEVENT
BEGIN:VTIMEZONE
TZID:Europe/Paris
X-LIC-LOCATION:Europe/Paris
BEGIN:DAYLIGHT
DTSTART:20250330T030000
TZOFFSETFROM:+0100
TZOFFSETTO:+0200
TZNAME:CEST
END:DAYLIGHT
END:VTIMEZONE
END:VCALENDAR