BEGIN:VCALENDAR
VERSION:2.0
PRODID:-//wp-events-plugin.com//7.2.3.1//EN
TZID:Europe/Paris
X-WR-TIMEZONE:Europe/Paris
BEGIN:VEVENT
UID:137@cpts-sel-et-eau.fr
DTSTART;TZID=Europe/Paris:20251017T140000
DTEND;TZID=Europe/Paris:20251017T173000
DTSTAMP:20250922T065404Z
URL:https://cpts-sel-et-eau.fr/events/parentalite-et-obesite-pediatrique/
SUMMARY:Parentalité et obésité pédiatrique
DESCRIPTION:Séminaire ESOP_17.10.2025\n\ninscription est obligatoire et gr
 atuite : compléter le formulaire d’inscription en ligne via ce lien : h
 ttps://docs.google.com/forms/d/e/1FAIpQLSdIwHPpaEkoWEGz_eA-hVCwy-Nj98dIpj5
 B-8m2qzeWw94LkA/viewform?usp=header
CATEGORIES:Professionnels de santé
LOCATION:Domaine de l’Asnée\, 11 rue de Laxou\, Villers-Lès-Nancy\, Fra
 nce
X-APPLE-STRUCTURED-LOCATION;VALUE=URI;X-ADDRESS=11 rue de Laxou\, Villers-L
 ès-Nancy\, France;X-APPLE-RADIUS=100;X-TITLE=Domaine de l’Asnée:geo:0,
 0
END:VEVENT
BEGIN:VTIMEZONE
TZID:Europe/Paris
X-LIC-LOCATION:Europe/Paris
BEGIN:DAYLIGHT
DTSTART:20250330T030000
TZOFFSETFROM:+0100
TZOFFSETTO:+0200
TZNAME:CEST
END:DAYLIGHT
END:VTIMEZONE
END:VCALENDAR