BEGIN:VCALENDAR
VERSION:2.0
PRODID:-//wp-events-plugin.com//7.2.3.1//EN
TZID:Europe/Paris
X-WR-TIMEZONE:Europe/Paris
BEGIN:VEVENT
UID:71@cpts-sel-et-eau.fr
DTSTART;TZID=Europe/Paris:20240630T083000
DTEND;TZID=Europe/Paris:20240630T113000
DTSTAMP:20240606T080446Z
URL:https://cpts-sel-et-eau.fr/events/marche-solidaire-pour-le-syndrome-de
 -prader-willi/
SUMMARY:Marche solidaire pour le syndrome de Prader-Willi
DESCRIPTION:Flyer marche solidaire pour le syndrome de Prader Willi\n\n[cap
 tion id="attachment_5357" align="alignnone" width="212"] EPSON MFP image[/
 caption]
ATTACH;FMTTYPE=image/jpeg:https://cpts-sel-et-eau.fr/wp-content/uploads/20
 24/05/Numerisation_20240502.jpg
CATEGORIES:Grand public,Professionnels de santé
LOCATION:Casino Solvay Dombasle\, Rue Gabriel Péri\, Dombasle-sur-Meurthe\
 , 54110\, France
X-APPLE-STRUCTURED-LOCATION;VALUE=URI;X-ADDRESS=Rue Gabriel Péri\, Dombasl
 e-sur-Meurthe\, 54110\, France;X-APPLE-RADIUS=100;X-TITLE=Casino Solvay Do
 mbasle:geo:0,0
END:VEVENT
BEGIN:VTIMEZONE
TZID:Europe/Paris
X-LIC-LOCATION:Europe/Paris
BEGIN:DAYLIGHT
DTSTART:20240331T030000
TZOFFSETFROM:+0100
TZOFFSETTO:+0200
TZNAME:CEST
END:DAYLIGHT
END:VTIMEZONE
END:VCALENDAR