BEGIN:VCALENDAR
VERSION:2.0
PRODID:-//wp-events-plugin.com//7.2.3.1//EN
TZID:Europe/Paris
X-WR-TIMEZONE:Europe/Paris
BEGIN:VEVENT
UID:110@cpts-sel-et-eau.fr
DTSTART;TZID=Europe/Paris:20250411T090000
DTEND;TZID=Europe/Paris:20250411T173000
DTSTAMP:20250325T092843Z
URL:https://cpts-sel-et-eau.fr/events/journees-territoriales-de-lobesite/
SUMMARY:Journées Territoriales de l'Obésité
DESCRIPTION:Le Centre Spécialisé de l'Obésité de Nancy a le plaisir de 
 vous convier à sa Journée Territoriale de l'Obésité (JTO)\, le vendred
 i 11 avril 2025 de 9h à 17h30 à la faculté de médecine de Nancy.\n\nCe
 tte journée sera l'occasion d'échanger avec la présence de nombreux int
 ervenants\, sur les thématiques de la coordination\, du muscle et de la n
 utrition\, des TCA :\n\nProgramme JTO 11.04.25\n\nAfin de participer à la
  journée\, l'inscription est gratuite mais obligatoire via le lien ci-des
 sous\, avant le vendredi 28 mars :\n\nInscription JTO 2025\n\nRetrouvez-y 
 la CPTS Sel et Eau qui sera présente avec l'action de prévention de l'ob
 ésité infantile !
CATEGORIES:Professionnels de santé
END:VEVENT
BEGIN:VTIMEZONE
TZID:Europe/Paris
X-LIC-LOCATION:Europe/Paris
BEGIN:DAYLIGHT
DTSTART:20250330T030000
TZOFFSETFROM:+0100
TZOFFSETTO:+0200
TZNAME:CEST
END:DAYLIGHT
END:VTIMEZONE
END:VCALENDAR