BEGIN:VCALENDAR
VERSION:2.0
PRODID:-//wp-events-plugin.com//7.2.3.1//EN
TZID:Europe/Paris
X-WR-TIMEZONE:Europe/Paris
BEGIN:VEVENT
UID:172@cpts-sel-et-eau.fr
DTSTART;TZID=Europe/Paris:20260626T090000
DTEND;TZID=Europe/Paris:20260626T160000
DTSTAMP:20260414T081012Z
URL:https://cpts-sel-et-eau.fr/events/journee-territoriale-obesite-nancy/
SUMMARY:Journée Territoriale Obésité - Nancy
DESCRIPTION:Le Centre Spécialisé de l'Obésité de Nancy a le plaisir de 
 vous communiquer le programme de sa Journée Territoriale de l'Obésité q
 ui se déroulera :\nVendredi 26 juin 2026\n9h00 – 16h00\nFaculté de m
 édecine de Nancy \nDans la continuité des précédentes éditions\, cett
 e journée sera articulée autour de conférences\, de temps d'échanges e
 t d'ateliers thématiques (voir programme ci-joint).\n Inscription JTO 20
 26 - CSO Nancy\nFlyer &amp\; programme JTO 2026
CATEGORIES:Professionnels de santé
END:VEVENT
BEGIN:VTIMEZONE
TZID:Europe/Paris
X-LIC-LOCATION:Europe/Paris
BEGIN:DAYLIGHT
DTSTART:20260329T030000
TZOFFSETFROM:+0100
TZOFFSETTO:+0200
TZNAME:CEST
END:DAYLIGHT
END:VTIMEZONE
END:VCALENDAR