BEGIN:VCALENDAR
VERSION:2.0
PRODID:-//wp-events-plugin.com//7.2.3.1//EN
TZID:Europe/Paris
X-WR-TIMEZONE:Europe/Paris
BEGIN:VEVENT
UID:126@cpts-sel-et-eau.fr
DTSTART;TZID=Europe/Paris:20251009T090000
DTEND;TZID=Europe/Paris:20251009T143000
DTSTAMP:20250909T095349Z
URL:https://cpts-sel-et-eau.fr/events/journee-nationale-contre-les-cancers
 -des-seniors/
SUMMARY:Journée nationale contre les cancers des séniors
DESCRIPTION:Flyer_A5_Journée nationale cancer et PA_2025\n\nAffiche A3_Jou
 rnée nationale cancer et PA_2025
CATEGORIES:Grand public
LOCATION:CHRU Nancy Brabois\, rue du Morvan\, Vandoeuvre-les-Nancy\, 54500\
 , France
X-APPLE-STRUCTURED-LOCATION;VALUE=URI;X-ADDRESS=rue du Morvan\, Vandoeuvre-
 les-Nancy\, 54500\, France;X-APPLE-RADIUS=100;X-TITLE=CHRU Nancy Brabois:g
 eo:0,0
END:VEVENT
BEGIN:VTIMEZONE
TZID:Europe/Paris
X-LIC-LOCATION:Europe/Paris
BEGIN:DAYLIGHT
DTSTART:20250330T030000
TZOFFSETFROM:+0100
TZOFFSETTO:+0200
TZNAME:CEST
END:DAYLIGHT
END:VTIMEZONE
END:VCALENDAR