BEGIN:VCALENDAR
VERSION:2.0
PRODID:-//wp-events-plugin.com//7.2.3.1//EN
TZID:Europe/Paris
X-WR-TIMEZONE:Europe/Paris
BEGIN:VEVENT
UID:138@cpts-sel-et-eau.fr
DTSTART;TZID=Europe/Paris:20251008T093000
DTEND;TZID=Europe/Paris:20251008T180000
DTSTAMP:20250923T124645Z
URL:https://cpts-sel-et-eau.fr/events/journee-bien-etre-ensemble-semaine-d
 information-en-sante-mentale/
SUMMARY:Journée bien-être ensemble - Semaine d'Information en Santé Ment
 ale
DESCRIPTION:\n 	Activités proposées :\n\n 	Voyage au cœur des émotions 
 : plongez dans une histoire magique qui invite à explorer les émotions a
 vec des ateliers ludiques et poétiques.\n 	Ateliers proposés par "La Ré
 pare des Castors" et "La ludothèque proposera" : des jeux coopératifs et
  un large choix de jeux coopératifs pour découvrir une nouvelle façon d
 e jouer ensemble en famille.\n\n\n 	Horaires :\n\n 	De 9h30 à 12h00 et de
  14h00 à 18h00\n\n\n 	Lieu : Ludothèque et Médiathèque\, 1 rue du Pré
 sbytère\, 54360 Blainville-sur-l'Eau\n
CATEGORIES:Grand public
END:VEVENT
BEGIN:VTIMEZONE
TZID:Europe/Paris
X-LIC-LOCATION:Europe/Paris
BEGIN:DAYLIGHT
DTSTART:20250330T030000
TZOFFSETFROM:+0100
TZOFFSETTO:+0200
TZNAME:CEST
END:DAYLIGHT
END:VTIMEZONE
END:VCALENDAR