BEGIN:VCALENDAR
VERSION:2.0
PRODID:-//wp-events-plugin.com//7.2.3.1//EN
TZID:Europe/Paris
X-WR-TIMEZONE:Europe/Paris
BEGIN:VEVENT
UID:124@cpts-sel-et-eau.fr
DTSTART;TZID=Europe/Paris:20250924T100000
DTEND;TZID=Europe/Paris:20250924T180000
DTSTAMP:20250909T094426Z
URL:https://cpts-sel-et-eau.fr/events/informations-et-ateliers-a-loccasion
 -de-la-journee-mondiale-alzheimer/
SUMMARY:Informations et ateliers à l'occasion de la Journée Mondiale Alzh
 eimer
DESCRIPTION:AFFICHE - ORANGERIE - FRANCE ALZEIHMER\n\nFLYER - ORANGERIE - F
 RANCE ALZHEIMER
CATEGORIES:Grand public
LOCATION:Médiathèque de l'Orangerie\, Place du colonel Clarental\, Lunév
 ille\, 54300\, France
X-APPLE-STRUCTURED-LOCATION;VALUE=URI;X-ADDRESS=Place du colonel Clarental\
 , Lunéville\, 54300\, France;X-APPLE-RADIUS=100;X-TITLE=Médiathèque de 
 l'Orangerie:geo:0,0
END:VEVENT
BEGIN:VTIMEZONE
TZID:Europe/Paris
X-LIC-LOCATION:Europe/Paris
BEGIN:DAYLIGHT
DTSTART:20250330T030000
TZOFFSETFROM:+0100
TZOFFSETTO:+0200
TZNAME:CEST
END:DAYLIGHT
END:VTIMEZONE
END:VCALENDAR