BEGIN:VCALENDAR
VERSION:2.0
PRODID:-//wp-events-plugin.com//7.2.3.1//EN
TZID:Europe/Paris
X-WR-TIMEZONE:Europe/Paris
BEGIN:VEVENT
UID:174@cpts-sel-et-eau.fr
DTSTART;TZID=Europe/Paris:20260522T093000
DTEND;TZID=Europe/Paris:20260522T103000
DTSTAMP:20260416T095415Z
URL:https://cpts-sel-et-eau.fr/events/gymnastique-adaptee/
SUMMARY:Gymnastique adaptée
DESCRIPTION:20 séances de Gymnastique adaptée par l'association Siel Bleu
 \n\nDébut 22/05/2026 - Fin 23/10/2026\n\nVendredis de 9h30 a 10h30\n\nAte
 lier de gymnastique adaptée pour prévenir les risques de\nchute et prés
 erver son autonomie physique\n\nINSCRIPTION :\n• Par téléphone au 03 8
 3 45 14 17\n• Par mail via inscriptions.seniors@saintnicolasdeport.fr\n\
 n&nbsp\;\n\nATTENTION : Ces ateliers sont entièrement gratuits. Afin de\n
 nous permettre de continuer à vous proposer ces activités\,\nil est néc
 essaire d’assister aux activités sur lesquelles vous\nêtes inscrit. No
 us nous réservons le droit de refuser votre\ndemande si vous étiez absen
 ts de façon répétée sans nous\nprévenir à l’avance.\n\n&nbsp\;
ATTACH;FMTTYPE=image/jpeg:https://cpts-sel-et-eau.fr/wp-content/uploads/20
 26/04/Capture-decran-2026-04-16-115235.jpg
CATEGORIES:Grand public
LOCATION:L'Autre Filature\, 8 rue du Champy\, Saint-Nicolas-de-Port\, 54210
 \, France
X-APPLE-STRUCTURED-LOCATION;VALUE=URI;X-ADDRESS=8 rue du Champy\, Saint-Nic
 olas-de-Port\, 54210\, France;X-APPLE-RADIUS=100;X-TITLE=L'Autre Filature:
 geo:0,0
END:VEVENT
BEGIN:VTIMEZONE
TZID:Europe/Paris
X-LIC-LOCATION:Europe/Paris
BEGIN:DAYLIGHT
DTSTART:20260329T030000
TZOFFSETFROM:+0100
TZOFFSETTO:+0200
TZNAME:CEST
END:DAYLIGHT
END:VTIMEZONE
END:VCALENDAR