BEGIN:VCALENDAR
VERSION:2.0
PRODID:-//wp-events-plugin.com//7.2.3.1//EN
TZID:Europe/Paris
X-WR-TIMEZONE:Europe/Paris
BEGIN:VEVENT
UID:139@cpts-sel-et-eau.fr
DTSTART;TZID=Europe/Paris:20251019T140000
DTEND;TZID=Europe/Paris:20251019T170000
DTSTAMP:20250923T124941Z
URL:https://cpts-sel-et-eau.fr/events/guinguette-des-semaines-dinformation
 -en-sante-mentale/
SUMMARY:Guinguette des Semaines d'Information en Santé Mentale
DESCRIPTION:\n 	Lieu : Salle des fêtes\, 27 rue Jolain\, 54210 SAINT-NICOL
 AS-DE-PORT\n 	Description : Une après-midi conviviale pour recréer du li
 en social entre habitants et acteurs locaux. Au programme : animations mus
 icales et dansantes\, concert live du groupe FMR\, démonstrations de hip-
 hop par l'école AB Studio danse\, et gourmandises à partager. Une fête 
 collective portée par la diversité et la collaboration du territoire.\n 
 	Entrée : Tout public - Entrée libre\n
CATEGORIES:Grand public
END:VEVENT
BEGIN:VTIMEZONE
TZID:Europe/Paris
X-LIC-LOCATION:Europe/Paris
BEGIN:DAYLIGHT
DTSTART:20250330T030000
TZOFFSETFROM:+0100
TZOFFSETTO:+0200
TZNAME:CEST
END:DAYLIGHT
END:VTIMEZONE
END:VCALENDAR