BEGIN:VCALENDAR
VERSION:2.0
PRODID:-//wp-events-plugin.com//7.2.3.1//EN
TZID:Europe/Paris
X-WR-TIMEZONE:Europe/Paris
BEGIN:VEVENT
UID:131@cpts-sel-et-eau.fr
DTSTART;TZID=Europe/Paris:20251125T140000
DTEND;TZID=Europe/Paris:20251125T160000
DTSTAMP:20250909T105317Z
URL:https://cpts-sel-et-eau.fr/events/groupe-de-parole-aidants-orchidee-4/
SUMMARY:Groupe de parole aidants "Orchidée"
DESCRIPTION:Renseignements et inscriptions auprès de France Services au 03
  83 45 14 17 ou ccas-franceservices@saintnicolasdeport.fr
CATEGORIES:Grand public
LOCATION:MAPEJE\, 26 rue du 4ème BCP\, St Nicolas de Port\, 54210\, France
X-APPLE-STRUCTURED-LOCATION;VALUE=URI;X-ADDRESS=26 rue du 4ème BCP\, St Ni
 colas de Port\, 54210\, France;X-APPLE-RADIUS=100;X-TITLE=MAPEJE:geo:0,0
END:VEVENT
BEGIN:VTIMEZONE
TZID:Europe/Paris
X-LIC-LOCATION:Europe/Paris
BEGIN:STANDARD
DTSTART:20251026T020000
TZOFFSETFROM:+0200
TZOFFSETTO:+0100
TZNAME:CET
END:STANDARD
END:VTIMEZONE
END:VCALENDAR