BEGIN:VCALENDAR
VERSION:2.0
PRODID:-//wp-events-plugin.com//7.2.3.1//EN
TZID:Europe/Paris
X-WR-TIMEZONE:Europe/Paris
BEGIN:VEVENT
UID:129@cpts-sel-et-eau.fr
DTSTART;TZID=Europe/Paris:20251014T140000
DTEND;TZID=Europe/Paris:20251014T160000
DTSTAMP:20250909T103905Z
URL:https://cpts-sel-et-eau.fr/events/groupe-de-parole-aidants-orchidee-2/
SUMMARY:Groupe de parole aidants "Orchidée"
DESCRIPTION:
CATEGORIES:Grand public
LOCATION:MAPEJE\, 26 rue du 4ème BCP\, St Nicolas de Port\, 54210\, France
X-APPLE-STRUCTURED-LOCATION;VALUE=URI;X-ADDRESS=26 rue du 4ème BCP\, St Ni
 colas de Port\, 54210\, France;X-APPLE-RADIUS=100;X-TITLE=MAPEJE:geo:0,0
END:VEVENT
BEGIN:VTIMEZONE
TZID:Europe/Paris
X-LIC-LOCATION:Europe/Paris
BEGIN:DAYLIGHT
DTSTART:20250330T030000
TZOFFSETFROM:+0100
TZOFFSETTO:+0200
TZNAME:CEST
END:DAYLIGHT
END:VTIMEZONE
END:VCALENDAR