BEGIN:VCALENDAR
VERSION:2.0
PRODID:-//wp-events-plugin.com//7.2.3.1//EN
TZID:Europe/Paris
X-WR-TIMEZONE:Europe/Paris
BEGIN:VEVENT
UID:113@cpts-sel-et-eau.fr
DTSTART;TZID=Europe/Paris:20250520T200000
DTEND;TZID=Europe/Paris:20250520T220000
DTSTAMP:20250310T095003Z
URL:https://cpts-sel-et-eau.fr/events/forum-professionnel-personnes-agees/
SUMMARY:Forum professionnel CPTS "personnes âgées"
DESCRIPTION:Destiné à tous les professionnels de santé libéraux du terr
 itoire ainsi qu'aux acteurs locaux qui accompagnent des personnes âgées 
 à domicile.
CATEGORIES:Professionnels de santé
LOCATION:Prieuré de Varangéville\, 44 rue Jean Jaurès\, Varangéville\, 
 54110\, France
X-APPLE-STRUCTURED-LOCATION;VALUE=URI;X-ADDRESS=44 rue Jean Jaurès\, Varan
 géville\, 54110\, France;X-APPLE-RADIUS=100;X-TITLE=Prieuré de Varangév
 ille:geo:0,0
END:VEVENT
BEGIN:VTIMEZONE
TZID:Europe/Paris
X-LIC-LOCATION:Europe/Paris
BEGIN:DAYLIGHT
DTSTART:20250330T030000
TZOFFSETFROM:+0100
TZOFFSETTO:+0200
TZNAME:CEST
END:DAYLIGHT
END:VTIMEZONE
END:VCALENDAR