BEGIN:VCALENDAR
VERSION:2.0
PRODID:-//wp-events-plugin.com//7.2.3.1//EN
TZID:Europe/Paris
X-WR-TIMEZONE:Europe/Paris
BEGIN:VEVENT
UID:165@cpts-sel-et-eau.fr
DTSTART;TZID=Europe/Paris:20260427T000000
DTEND;TZID=Europe/Paris:20260427T000000
DTSTAMP:20260224T100225Z
URL:https://cpts-sel-et-eau.fr/events/diagnostic-et-prise-en-charge-de-lob
 esite-de-lenfant-et-de-ladolescent/
SUMMARY:Diagnostic et prise en charge de l'obésité de l'enfant et de l'ad
 olescent
DESCRIPTION:formation de niveau 2 reconnue DPC et par l’APOP\, sous la fo
 rme de 2 journées en présentiel (à la Faculté de Médecine de Nancy)\n
 \nCette formation est financée par l’Agence régionale de Santé Grand 
 Est ou par le DPC \n\nAu programme : Dépistage\, annonce\, évaluation m
 ultidimensionnelle\, prise en charge pluri professionnelle\, approche TCA\
 , ETP\, stigmatisation…\n\nLes prochaines sessions sont prévues à ces 
 dates :\n\nSession 3 : 27 avril 2026 et 18 mai 2026\n\nSession 4 : 8 ju
 in 2026 et 22 juin 2026 \n\nInformations et inscriptions auprès de M. Moh
 amed YOUNSI (Responsable formation\, Université de Lorraine) mohamed.youn
 si@univ-lorraine.fr ou par téléphone au 03.72.74.63.52
END:VEVENT
BEGIN:VTIMEZONE
TZID:Europe/Paris
X-LIC-LOCATION:Europe/Paris
BEGIN:DAYLIGHT
DTSTART:20260329T030000
TZOFFSETFROM:+0100
TZOFFSETTO:+0200
TZNAME:CEST
END:DAYLIGHT
END:VTIMEZONE
END:VCALENDAR