BEGIN:VCALENDAR
VERSION:2.0
PRODID:-//wp-events-plugin.com//7.2.3.1//EN
TZID:Europe/Paris
X-WR-TIMEZONE:Europe/Paris
BEGIN:VEVENT
UID:112@cpts-sel-et-eau.fr
DTSTART;TZID=Europe/Paris;VALUE=DATE:20250313
DTEND;TZID=Europe/Paris;VALUE=DATE:20250315
DTSTAMP:20250310T093552Z
URL:https://cpts-sel-et-eau.fr/events/congres-de-la-maison-des-urps/
SUMMARY:Congrès de la Maison des URPS
DESCRIPTION:Au Palais des Congrès de Strasbourg\n\n+ d'infos : https://ma
 ison-urps-grandest.fr/
CATEGORIES:Professionnels de santé
END:VEVENT
BEGIN:VTIMEZONE
TZID:Europe/Paris
X-LIC-LOCATION:Europe/Paris
BEGIN:STANDARD
DTSTART:20241027T020000
TZOFFSETFROM:+0200
TZOFFSETTO:+0100
TZNAME:CET
END:STANDARD
END:VTIMEZONE
END:VCALENDAR