BEGIN:VCALENDAR
VERSION:2.0
PRODID:-//wp-events-plugin.com//7.2.3.1//EN
TZID:Europe/Paris
X-WR-TIMEZONE:Europe/Paris
BEGIN:VEVENT
UID:173@cpts-sel-et-eau.fr
DTSTART;TZID=Europe/Paris:20260430T140000
DTEND;TZID=Europe/Paris:20260430T150000
DTSTAMP:20260416T094916Z
URL:https://cpts-sel-et-eau.fr/events/ateliers-memoire/
SUMMARY:Ateliers mémoire
DESCRIPTION:Mémoire ludique par Chauffe-Citron\nSe déroule les jeudis de 
 14h à 15h à la MAPEJE 26 rue du 4ème BCP St Nicolas de Port\nDébut le 
 30/04/2026\nFin prévue le 15/10/2026\nAteliers culturels et récréatifs 
 pour faire travailler sa mémoire et créer un lien via des activités lud
 iques\nINSCRIPTION :\n• Par téléphone au 03 83 45 14 17\n• Par mail 
 via inscriptions.seniors@saintnicolasdeport.fr
ATTACH;FMTTYPE=image/jpeg:https://cpts-sel-et-eau.fr/wp-content/uploads/20
 26/04/Capture-decran-2026-04-16-114829.jpg
CATEGORIES:Grand public
LOCATION:MAPEJE\, 26 rue du 4ème BCP\, St Nicolas de Port\, 54210\, France
X-APPLE-STRUCTURED-LOCATION;VALUE=URI;X-ADDRESS=26 rue du 4ème BCP\, St Ni
 colas de Port\, 54210\, France;X-APPLE-RADIUS=100;X-TITLE=MAPEJE:geo:0,0
END:VEVENT
BEGIN:VTIMEZONE
TZID:Europe/Paris
X-LIC-LOCATION:Europe/Paris
BEGIN:DAYLIGHT
DTSTART:20260329T030000
TZOFFSETFROM:+0100
TZOFFSETTO:+0200
TZNAME:CEST
END:DAYLIGHT
END:VTIMEZONE
END:VCALENDAR