BEGIN:VCALENDAR
VERSION:2.0
PRODID:-//wp-events-plugin.com//7.2.3.1//EN
TZID:Europe/Paris
X-WR-TIMEZONE:Europe/Paris
BEGIN:VEVENT
UID:127@cpts-sel-et-eau.fr
DTSTART;TZID=Europe/Paris:20250922T143000
DTEND;TZID=Europe/Paris:20250922T160000
DTSTAMP:20250909T095715Z
URL:https://cpts-sel-et-eau.fr/events/ateliers-de-construction-du-gerontop
 ole-grand-est/
SUMMARY:Ateliers de construction du Gérontopôle Grand Est
DESCRIPTION:
CATEGORIES:Professionnels de santé
END:VEVENT
BEGIN:VTIMEZONE
TZID:Europe/Paris
X-LIC-LOCATION:Europe/Paris
BEGIN:DAYLIGHT
DTSTART:20250330T030000
TZOFFSETFROM:+0100
TZOFFSETTO:+0200
TZNAME:CEST
END:DAYLIGHT
END:VTIMEZONE
END:VCALENDAR