BEGIN:VCALENDAR
VERSION:2.0
PRODID:-//wp-events-plugin.com//7.2.3.1//EN
TZID:Europe/Paris
X-WR-TIMEZONE:Europe/Paris
BEGIN:VEVENT
UID:175@cpts-sel-et-eau.fr
DTSTART;TZID=Europe/Paris:20260428T100000
DTEND;TZID=Europe/Paris:20260428T110000
DTSTAMP:20260416T100156Z
URL:https://cpts-sel-et-eau.fr/events/ateliers-aidants-familiaux/
SUMMARY:Ateliers Aidants familiaux
DESCRIPTION:\n 	\nMéditation\, gym sensorielle des fascias\, cohérence ca
 rdiaque par Mme PAQUOT Barbara :\nSe déroule les mardis de 10h à 11h\nD
 ébute le 28/04/2026\nPrévu pour 10 personnes\n\n\n\n 	\nSophrologie par 
 Mme DESCLE Véronique :\nSe déroule les mardis\nDébute le 12/05/2026 de 
 14h à 16h\nPrévu pour 10 personnes\n\nRenseignements et inscriptions à
  ccas-franceservices@saintnicolasdeport.fr ou au 03 83 45 14 17 \n\nLes
  activités de bien-être peuvent compléter une hygiène de vie saine\, m
 ais ne remplacent pas un suivi médical. En cas de doute ou de besoin spé
 cifique\, consultez toujours un professionnel de santé.
CATEGORIES:Grand public
END:VEVENT
BEGIN:VTIMEZONE
TZID:Europe/Paris
X-LIC-LOCATION:Europe/Paris
BEGIN:DAYLIGHT
DTSTART:20260329T030000
TZOFFSETFROM:+0100
TZOFFSETTO:+0200
TZNAME:CEST
END:DAYLIGHT
END:VTIMEZONE
END:VCALENDAR