BEGIN:VCALENDAR
VERSION:2.0
PRODID:-//wp-events-plugin.com//7.2.3.1//EN
TZID:Europe/Paris
X-WR-TIMEZONE:Europe/Paris
BEGIN:VEVENT
UID:85@cpts-sel-et-eau.fr
DTSTART;TZID=Europe/Paris:20241126T200000
DTEND;TZID=Europe/Paris:20241126T220000
DTSTAMP:20241107T105255Z
URL:https://cpts-sel-et-eau.fr/events/assemblee-generale/
SUMMARY:Assemblée Générale
DESCRIPTION:Cette Assemblée sera l’occasion de faire le point sur les ac
 tions passées et à venir de la CPTS ainsi que d’élire nos représenta
 nts au bureau et les délégués des collèges infirmiers\, pharmaciens et
  médecins.\nInscrivez-vous\, présentez votre candidature ou faites vous 
 représentez en cliquant ci-contre : https://forms.office.com/r/zyRfeWBw4f
 \nBulletin de candidature aux postes du bureau ou de délégué profession
 nel à nous retourner avant le 19 novembre 2024 : Bulletin candidature bur
 eau et DP\nPouvoir à signer et nous retourner avant le 26 novembre en cas
  d'absence : Pouvoir AG 26 11 24\nNous vous rappelons que conformément au
 x dispositions des statuts :\n\n\n 	L’assemblée générale ordinaire ne
  peut délibérer que si 1/3 des membres titulaires sont présents.\n 	Le 
 droit de participer à l’assemblée est réservé aux seuls membres à j
 our de leur cotisation à la date de la convocation.\n 	Votre présence à
  cette assemblée générale est nécessaire. En cas d’empêchement\, vo
 us avez la possibilité de vous faire représenter par un mandataire de vo
 tre choix\, muni d’un pouvoir régulier (modèle accessible ci-dessus à
  retourner avant le 25 novembre)\n\n 	le mandat des postes des membres du 
 bureau et des délégués des collèges IDE\, pharmaciens\, médecins arri
 vent à échéance fin 2024. Ils sont ouverts aux membres titulaires de l'
 association à jour de cotisation. Nous vous invitons donc à vous porter 
 candidat pour l’un de ces postes par l’intermédiaire du bulletin acce
 ssible ci-dessus à nous retourner avant le 19 novembre 2024.\n\n\n
CATEGORIES:Professionnels de santé
LOCATION:Prieuré de Varangéville\, 44 rue Jean Jaurès\, Varangéville\, 
 54110\, France
X-APPLE-STRUCTURED-LOCATION;VALUE=URI;X-ADDRESS=44 rue Jean Jaurès\, Varan
 géville\, 54110\, France;X-APPLE-RADIUS=100;X-TITLE=Prieuré de Varangév
 ille:geo:0,0
END:VEVENT
BEGIN:VTIMEZONE
TZID:Europe/Paris
X-LIC-LOCATION:Europe/Paris
BEGIN:STANDARD
DTSTART:20241027T020000
TZOFFSETFROM:+0200
TZOFFSETTO:+0100
TZNAME:CET
END:STANDARD
END:VTIMEZONE
END:VCALENDAR