BEGIN:VCALENDAR
VERSION:2.0
PRODID:-//wp-events-plugin.com//7.2.3.1//EN
TZID:Europe/Paris
X-WR-TIMEZONE:Europe/Paris
BEGIN:VEVENT
UID:125@cpts-sel-et-eau.fr
DTSTART;TZID=Europe/Paris:20251007T193000
DTEND;TZID=Europe/Paris:20251007T213000
DTSTAMP:20250909T094741Z
URL:https://cpts-sel-et-eau.fr/events/afterwork-oncologie-et-pneumologie/
SUMMARY:AFTERWORK Oncologie et Pneumologie
DESCRIPTION:Invitation After Work\n\n&nbsp\;
CATEGORIES:Professionnels de santé
LOCATION:Centre Hospitalier de Lunéville\, 6 rue Girardet\, Lunéville\, 5
 4300\, France
X-APPLE-STRUCTURED-LOCATION;VALUE=URI;X-ADDRESS=6 rue Girardet\, Lunéville
 \, 54300\, France;X-APPLE-RADIUS=100;X-TITLE=Centre Hospitalier de Lunévi
 lle:geo:0,0
END:VEVENT
BEGIN:VTIMEZONE
TZID:Europe/Paris
X-LIC-LOCATION:Europe/Paris
BEGIN:DAYLIGHT
DTSTART:20250330T030000
TZOFFSETFROM:+0100
TZOFFSETTO:+0200
TZNAME:CEST
END:DAYLIGHT
END:VTIMEZONE
END:VCALENDAR